BEGIN:VCALENDAR
VERSION:2.0
PRODID:-//Tukios.com/
BEGIN:VEVENT
UID:7e8e0055-401d-47e4-888d-79d939e0d439@www.merenessputnamfuneralhome.com
DTSTAMP:20260419T212531Z
DTSTART:20260424T170000Z
DTEND:20260424T180000Z
SUMMARY:Visitation
DESCRIPTION:
URL:https://www.merenessputnamfuneralhome.com/obituaries/phyllis-chianucci
LOCATION:Mereness-Putnam Funeral Home 171 Elm Street  Cobleskill NY 12043
GEO:42.6777033;-74.4943721
END:VEVENT
END:VCALENDAR