BEGIN:VCALENDAR
VERSION:2.0
PRODID:-//Tukios.com/
BEGIN:VEVENT
UID:d46e4f7d-bc76-4013-9b17-10b8ee93c387@www.merenessputnamfuneralhome.com
DTSTAMP:20260419T212434Z
DTSTART:20260424T180000Z
DTEND:20260424T190000Z
SUMMARY:Memorial Service
DESCRIPTION:
URL:https://www.merenessputnamfuneralhome.com/obituaries/phyllis-chianucci
LOCATION:Mereness-Putnam Funeral Home 171 Elm Street  Cobleskill NY 12043
GEO:42.6777033;-74.4943721
END:VEVENT
END:VCALENDAR