BEGIN:VCALENDAR
VERSION:2.0
PRODID:-//Tukios.com/
BEGIN:VEVENT
UID:eab29d1b-32a9-4666-abf5-38b2a9d6f9ef@www.merenessputnamfuneralhome.com
DTSTAMP:20260424T043955Z
DTSTART:20260426T150000Z
DTEND:20260426T180000Z
SUMMARY:Visitation
DESCRIPTION:
URL:https://www.merenessputnamfuneralhome.com/obituaries/lexi-bohringer
LOCATION:Mereness-Putnam Funeral Home 171 Elm Street  Cobleskill NY 12043
GEO:42.6777033;-74.4943721
END:VEVENT
END:VCALENDAR