BEGIN:VCALENDAR
VERSION:2.0
PRODID:-//Tukios.com/
BEGIN:VEVENT
UID:721d15a3-e74a-43a8-9d93-1908a44e685e@www.merenessputnamfuneralhome.com
DTSTAMP:20260419T212905Z
DTSTART:20260504T140000Z
DTEND:20260504T143000Z
SUMMARY:Graveside Service
DESCRIPTION:
URL:https://www.merenessputnamfuneralhome.com/obituaries/janet-gorton
LOCATION:Cobleskill Rural Cemetery     
GEO:0;0
END:VEVENT
END:VCALENDAR